BEGIN:VCALENDAR
VERSION:2.0
PRODID:-//Artaker IT - ECPv6.15.17.1//NONSGML v1.0//EN
CALSCALE:GREGORIAN
METHOD:PUBLISH
X-ORIGINAL-URL:https://artaker.it
X-WR-CALDESC:Veranstaltungen für Artaker IT
REFRESH-INTERVAL;VALUE=DURATION:PT1H
X-Robots-Tag:noindex
X-PUBLISHED-TTL:PT1H
BEGIN:VTIMEZONE
TZID:Europe/Berlin
BEGIN:DAYLIGHT
TZOFFSETFROM:+0100
TZOFFSETTO:+0200
TZNAME:CEST
DTSTART:20220327T010000
END:DAYLIGHT
BEGIN:STANDARD
TZOFFSETFROM:+0200
TZOFFSETTO:+0100
TZNAME:CET
DTSTART:20221030T010000
END:STANDARD
BEGIN:DAYLIGHT
TZOFFSETFROM:+0100
TZOFFSETTO:+0200
TZNAME:CEST
DTSTART:20230326T010000
END:DAYLIGHT
BEGIN:STANDARD
TZOFFSETFROM:+0200
TZOFFSETTO:+0100
TZNAME:CET
DTSTART:20231029T010000
END:STANDARD
BEGIN:DAYLIGHT
TZOFFSETFROM:+0100
TZOFFSETTO:+0200
TZNAME:CEST
DTSTART:20240331T010000
END:DAYLIGHT
BEGIN:STANDARD
TZOFFSETFROM:+0200
TZOFFSETTO:+0100
TZNAME:CET
DTSTART:20241027T010000
END:STANDARD
END:VTIMEZONE
BEGIN:VEVENT
DTSTART;TZID=Europe/Berlin:20231015T090000
DTEND;TZID=Europe/Berlin:20231017T170000
DTSTAMP:20260423T185523
CREATED:20230628T113237Z
LAST-MODIFIED:20230912T091923Z
UID:10000060-1697360400-1697562000@artaker.it
SUMMARY:CIO Kongress | LSZ
DESCRIPTION:Der CIO Kongress in Loipersdorf von 15. – 17. Oktober 2023 ist das wichtigste Zusammentreffen von IT-Entscheider:innen in Österreich. Angesichts der rasanten Entwicklung der Geschäftswelt stehen CIOs & CDOs an vorderster Front\, wenn es darum geht\, die digitale Transformation\, Innovation und Wachstum in den Unternehmen voranzutreiben. \nARTAKER IT wird gemeinsam mit tenfold als Goldpartner auf dem Kongress vertreten sein. Treffen Sie uns am Stand zum gemeinsamen Austausch und besuchen Sie unseren Vortragsslot\, wo Ihnen Stephan Radl\, Information Security Officer – Österreichische Beamtenversicherung\, über die erfolgreiche Einführung von tenfold als Software-Lösung für das zentrale Verwalten von Benutzern und Zugriffsrechten berichtet. \nInformationen zum Workshop:“Sicherer Zugriff\, maximale Effizienz: Ein IAM Workshop der Österreichische Beamtenversicherung & Tenfold “ \n\nDie automatische Verwaltung von IT-Berechtigungen kann IT Admins wesentlich entlasten.\nUmfassendes Reporting und laufende Kontrollen sichern den Zugang zu sensiblen Daten ab.\nDie zentrale Steuerung von Zugriffsrechten erleichtert Einhaltung und Nachweis gesetzlicher Standards.\n\n  \nWir freuen uns auf den Austausch mit Ihnen. Hier erhalten Sie Ihr Ticket. \n			\n				\n				\n				\n				\n				Ihr Ansprechpartner: Georg Broucek | Geschäftsführer E-Mail | +43 1 588 52 263 | +43 664 181 10 85
URL:https://artaker.it/event/cio-kongress-lsz/
LOCATION:Congress Center Loipersdorf\, Schaffelbadstraße 220\, Loipersdorf\, 8282\, Österreich
CATEGORIES:Konferenz,Webinar
ATTACH;FMTTYPE=image/jpeg:https://artaker.it/wp-content/uploads/2023/06/Email_Header_CioK.jpg
END:VEVENT
END:VCALENDAR