BEGIN:VCALENDAR
VERSION:2.0
PRODID:-//Artaker IT - ECPv6.15.17.1//NONSGML v1.0//EN
CALSCALE:GREGORIAN
METHOD:PUBLISH
X-ORIGINAL-URL:https://artaker.it
X-WR-CALDESC:Veranstaltungen für Artaker IT
REFRESH-INTERVAL;VALUE=DURATION:PT1H
X-Robots-Tag:noindex
X-PUBLISHED-TTL:PT1H
BEGIN:VTIMEZONE
TZID:Europe/Berlin
BEGIN:DAYLIGHT
TZOFFSETFROM:+0100
TZOFFSETTO:+0200
TZNAME:CEST
DTSTART:20220327T010000
END:DAYLIGHT
BEGIN:STANDARD
TZOFFSETFROM:+0200
TZOFFSETTO:+0100
TZNAME:CET
DTSTART:20221030T010000
END:STANDARD
BEGIN:DAYLIGHT
TZOFFSETFROM:+0100
TZOFFSETTO:+0200
TZNAME:CEST
DTSTART:20230326T010000
END:DAYLIGHT
BEGIN:STANDARD
TZOFFSETFROM:+0200
TZOFFSETTO:+0100
TZNAME:CET
DTSTART:20231029T010000
END:STANDARD
BEGIN:DAYLIGHT
TZOFFSETFROM:+0100
TZOFFSETTO:+0200
TZNAME:CEST
DTSTART:20240331T010000
END:DAYLIGHT
BEGIN:STANDARD
TZOFFSETFROM:+0200
TZOFFSETTO:+0100
TZNAME:CET
DTSTART:20241027T010000
END:STANDARD
END:VTIMEZONE
BEGIN:VEVENT
DTSTART;TZID=Europe/Berlin:20231116T100000
DTEND;TZID=Europe/Berlin:20231116T110000
DTSTAMP:20260423T210341
CREATED:20231019T075406Z
LAST-MODIFIED:20231019T075425Z
UID:10000065-1700128800-1700132400@artaker.it
SUMMARY:Einfach arbeiten: produktiver mit Microsoft 365-Anwendungen umgehen
DESCRIPTION:Wie kann man die Microsoft 365-Anwendungen für die Erledigung seiner Arbeit jeden Tag besser einsetzen: Outlook-Mail/-Kalender\, Teams\, OneDrive\, SharePoint. Es gibt so viele Funktionen und dauert ändert sich etwas. Was ist bewährte Praxis und wo lohnt sich die Innovation? Wo stehen wir im Thema KI\, Copilot und dem mobilen Arbeiten? \nWir geben Erfahrungen\, Tipps und Tricks und Beispiele unter anderem für die Projektzusammenarbeit\, die Informationsarbeit in der Büroorganisation\, und in der Kunden- / Lieferantenkommunikation. \nWir freuen uns auf Ihre Teilnahme! \n			\n				\n				\n				\n				\n				Bitte um Verständnis\, dies ist eine Veranstaltung für Interessenten und Kunden\, keine Partnerveranstaltung. \nIhr Ansprechpartner: Dr. Helmut Szpott\nProkurist | CDO – Chief Digital Officer\nE-Mail | +43 1 588 52 310 | +43 664 81 33 901
URL:https://artaker.it/event/einfach-arbeiten-produktiver-mit-microsoft-365-anwendungen-umgehen/
LOCATION:Findet online statt
CATEGORIES:Konferenz,Webinar
ATTACH;FMTTYPE=image/jpeg:https://artaker.it/wp-content/uploads/2023/10/ed-hardie-xG02JzIBf7o-unsplash.jpg
END:VEVENT
END:VCALENDAR