BEGIN:VCALENDAR
VERSION:2.0
PRODID:-//Artaker IT - ECPv6.15.17.1//NONSGML v1.0//EN
CALSCALE:GREGORIAN
METHOD:PUBLISH
X-WR-CALNAME:Artaker IT
X-ORIGINAL-URL:https://artaker.it
X-WR-CALDESC:Veranstaltungen für Artaker IT
REFRESH-INTERVAL;VALUE=DURATION:PT1H
X-Robots-Tag:noindex
X-PUBLISHED-TTL:PT1H
BEGIN:VTIMEZONE
TZID:Europe/Berlin
BEGIN:DAYLIGHT
TZOFFSETFROM:+0100
TZOFFSETTO:+0200
TZNAME:CEST
DTSTART:20250330T010000
END:DAYLIGHT
BEGIN:STANDARD
TZOFFSETFROM:+0200
TZOFFSETTO:+0100
TZNAME:CET
DTSTART:20251026T010000
END:STANDARD
BEGIN:DAYLIGHT
TZOFFSETFROM:+0100
TZOFFSETTO:+0200
TZNAME:CEST
DTSTART:20260329T010000
END:DAYLIGHT
BEGIN:STANDARD
TZOFFSETFROM:+0200
TZOFFSETTO:+0100
TZNAME:CET
DTSTART:20261025T010000
END:STANDARD
BEGIN:DAYLIGHT
TZOFFSETFROM:+0100
TZOFFSETTO:+0200
TZNAME:CEST
DTSTART:20270328T010000
END:DAYLIGHT
BEGIN:STANDARD
TZOFFSETFROM:+0200
TZOFFSETTO:+0100
TZNAME:CET
DTSTART:20271031T010000
END:STANDARD
END:VTIMEZONE
BEGIN:VEVENT
DTSTART;TZID=Europe/Berlin:20260304T100000
DTEND;TZID=Europe/Berlin:20260304T110000
DTSTAMP:20260422T105232
CREATED:20260213T091154Z
LAST-MODIFIED:20260224T102549Z
UID:10000102-1772618400-1772622000@artaker.it
SUMMARY:Webinar: Digitale Assistenten im Arbeitsalltag: Chancen nutzen\, Risiken beherrschen
DESCRIPTION:Digitale Assistenten im Arbeitsalltag: Chancen nutzen\, Risiken beherrschen\nDigitale Assistenten erleichtern den Arbeitsalltag – doch frei verfügbare Tools bergen schnell Risiken für vertrauliche Unternehmensdaten. In unserem kompakten Webinar zeigen wir\, worauf Sie achten sollten und wie Sie typische Stolperfallen vermeiden. Außerdem erleben Sie anhand praktischer Beispiele\, wie sich Inhalte schneller erstellen und Meetings effizienter auswerten lassen – und zum Schluss\, wie Copilot in Microsoft 365 all das sicher und unternehmenskonform ermöglicht. \nAgenda \n\nBegrüßung & Ziele\nRisiken unkontrollierter KI‑Tools im Unternehmen\nWie Sie Risiken pragmatisch eindämmen\nDie sichere Alternative: Copilot in Microsoft 365\nUse Cases\nQ&A\n\nDatum\nMi\, 4. März 2026 10:00 – 10:45\n \nRegistrierung \nhttps://events.teams.microsoft.com/event/3b6fae1e-51b7-45c4-a172-52b35793998a@f16b0d64-c314-4481-adca-7a599aa11e34 \n 
URL:https://artaker.it/event/digitale-assistenten-im-arbeitsalltag-chancen-nutzen-risiken-beherrschen/
LOCATION:Findet online statt
ATTACH;FMTTYPE=image/png:https://artaker.it/wp-content/uploads/2026/02/Erstell-mir-ein-Bild-fuer-ein-Webinar-zum-Thema-Dig-e1772447369640.png
END:VEVENT
END:VCALENDAR