BEGIN:VCALENDAR
VERSION:2.0
PRODID:-//Artaker IT - ECPv6.15.17.1//NONSGML v1.0//EN
CALSCALE:GREGORIAN
METHOD:PUBLISH
X-WR-CALNAME:Artaker IT
X-ORIGINAL-URL:https://artaker.it
X-WR-CALDESC:Veranstaltungen für Artaker IT
REFRESH-INTERVAL;VALUE=DURATION:PT1H
X-Robots-Tag:noindex
X-PUBLISHED-TTL:PT1H
BEGIN:VTIMEZONE
TZID:Europe/Berlin
BEGIN:DAYLIGHT
TZOFFSETFROM:+0100
TZOFFSETTO:+0200
TZNAME:CEST
DTSTART:20230326T010000
END:DAYLIGHT
BEGIN:STANDARD
TZOFFSETFROM:+0200
TZOFFSETTO:+0100
TZNAME:CET
DTSTART:20231029T010000
END:STANDARD
BEGIN:DAYLIGHT
TZOFFSETFROM:+0100
TZOFFSETTO:+0200
TZNAME:CEST
DTSTART:20240331T010000
END:DAYLIGHT
BEGIN:STANDARD
TZOFFSETFROM:+0200
TZOFFSETTO:+0100
TZNAME:CET
DTSTART:20241027T010000
END:STANDARD
BEGIN:DAYLIGHT
TZOFFSETFROM:+0100
TZOFFSETTO:+0200
TZNAME:CEST
DTSTART:20250330T010000
END:DAYLIGHT
BEGIN:STANDARD
TZOFFSETFROM:+0200
TZOFFSETTO:+0100
TZNAME:CET
DTSTART:20251026T010000
END:STANDARD
END:VTIMEZONE
BEGIN:VEVENT
DTSTART;TZID=Europe/Berlin:20241010T090000
DTEND;TZID=Europe/Berlin:20241010T160000
DTSTAMP:20260424T153520
CREATED:20240819T090328Z
LAST-MODIFIED:20241002T131851Z
UID:10000076-1728550800-1728576000@artaker.it
SUMMARY:Herbstevent 2024: Zukunft im Fokus
DESCRIPTION:Gemeinsam mit ZELMION stellen wir unser diesjähriges Herbstevent unter das Motto “Zukunft im Fokus”. Freuen Sie sich auf einen spannenden Vortrag rund um die Künstliche Intelligenz von Univ. Prof. Dr. Markus Hengstschläger\, Leiter des Instituts für Medizinische Genetik und Organisationseinheitsleiter des Zentrums für Pathobiochemie und Genetik an der Medizinischen Universität Wien! Außerdem stehen Themen wie KI\, Neuerungen bei xSuite \, News von Artaker IT und mehr auf der Agenda. \nDer Ablauf: \n9.00 Uhr: Beginn / Ankunft der Gäste \n9.30-11.00 Uhr: \n\nDie Interaktion von KI und der Lösungsbegabung des Menschenmit Univ. Prof. Dr. Markus Hengstschläger\nNeuigkeiten von der xSuite – Ein Portfolio-Überblick\n\n11.00-11.30 Uhr: Kaffeepause \n11.30-13.00 Uhr: \n\nArtakerAI: Arbeiten vereinfachen und modernisieren\nMit xSuite zum digitalen Erfolg – Wie ein führendes Modeunternehmen Effizienz steigerte\nxRechnung: Worum geht’s und wie geht das\n\n13.00 Uhr Business-Lunch mit anschließendem Get-Together und Ausklang der Veranstaltung \n15.00 Uhr: Ende der Veranstaltung \nWir freuen uns darauf\, Sie im Kelsen im Parlament begrüßen zu dürfen! \n			\n				\n				\n				\n				\n				\n\n			\n				\n				\n				\n				\n				Ihr Ansprechpartner:\nDipl.Ing. Martin Böck\nCEO\nE-Mail | +43 664 885 11 508 \n 
URL:https://artaker.it/event/herbstevent-2024-zukunft-im-fokus/
LOCATION:Kelsen im Parlament\, Dr. Karl Renner-Ring 3\, Wien\, 1010\, Österreich
ATTACH;FMTTYPE=image/png:https://artaker.it/wp-content/uploads/2024/08/Herbstevent-Banner.png
END:VEVENT
END:VCALENDAR