BEGIN:VCALENDAR
VERSION:2.0
PRODID:-//Artaker IT - ECPv6.15.17.1//NONSGML v1.0//EN
CALSCALE:GREGORIAN
METHOD:PUBLISH
X-WR-CALNAME:Artaker IT
X-ORIGINAL-URL:https://artaker.it
X-WR-CALDESC:Veranstaltungen für Artaker IT
REFRESH-INTERVAL;VALUE=DURATION:PT1H
X-Robots-Tag:noindex
X-PUBLISHED-TTL:PT1H
BEGIN:VTIMEZONE
TZID:Europe/Berlin
BEGIN:DAYLIGHT
TZOFFSETFROM:+0100
TZOFFSETTO:+0200
TZNAME:CEST
DTSTART:20230326T010000
END:DAYLIGHT
BEGIN:STANDARD
TZOFFSETFROM:+0200
TZOFFSETTO:+0100
TZNAME:CET
DTSTART:20231029T010000
END:STANDARD
BEGIN:DAYLIGHT
TZOFFSETFROM:+0100
TZOFFSETTO:+0200
TZNAME:CEST
DTSTART:20240331T010000
END:DAYLIGHT
BEGIN:STANDARD
TZOFFSETFROM:+0200
TZOFFSETTO:+0100
TZNAME:CET
DTSTART:20241027T010000
END:STANDARD
BEGIN:DAYLIGHT
TZOFFSETFROM:+0100
TZOFFSETTO:+0200
TZNAME:CEST
DTSTART:20250330T010000
END:DAYLIGHT
BEGIN:STANDARD
TZOFFSETFROM:+0200
TZOFFSETTO:+0100
TZNAME:CET
DTSTART:20251026T010000
END:STANDARD
END:VTIMEZONE
BEGIN:VEVENT
DTSTART;TZID=Europe/Berlin:20241113T100000
DTEND;TZID=Europe/Berlin:20241113T110000
DTSTAMP:20260424T174842
CREATED:20240919T075804Z
LAST-MODIFIED:20240919T080029Z
UID:10000077-1731492000-1731495600@artaker.it
SUMMARY:NIS2 – was Kunden dafür wirklich tun (sollten)
DESCRIPTION:Die europäische Verordnung zur Netzwerk- und Informationssicherheit in der zweiten Fassung (NIS2-Richtlinie) sollte bis 17. Oktober 2024 in den EU-Mitgliedstaaten umgesetzt werden. Wann das NISG 2024/2025 in Österreich tatsächlich in Kraft treten wird (es gibt einen Entwurf)\, wissen wir derzeit noch nicht. Unternehmen sollten im eigenen Interesse aber die Umsetzung von Maßnahmen für die IT-Sicherheit forcieren. Artaker hat einige Kunden begleitet – und wir berichten\, wie wir das gemacht haben. \nAgenda: \n \n\nStand der Dinge: NISG und NIS2-Richtlinie\, was steht wirklich drin\nBest practices: so haben wir das gemacht\nErgebnisse / Der Alltag\n\n			\n				Zur Anmeldung\n			\n				\n				\n				\n				\n				  \nIhr Ansprechpartner:Dr. Helmut SzpottProkurist | PartnerE-Mail | +43 1 588 52 0 | +43 664 813 39 01
URL:https://artaker.it/event/nis2-was-kunden-dafuer-wirklich-tun-sollten/
LOCATION:Findet online statt
CATEGORIES:Webinar
ATTACH;FMTTYPE=image/jpeg:https://artaker.it/wp-content/uploads/2024/09/Artaker-Webinar-NIS2-Nov24-schmal.jpg
END:VEVENT
BEGIN:VEVENT
DTSTART;TZID=Europe/Berlin:20241126T083000
DTEND;TZID=Europe/Berlin:20241126T120000
DTSTAMP:20260424T174842
CREATED:20241029T153034Z
LAST-MODIFIED:20241031T145117Z
UID:10000078-1732609800-1732622400@artaker.it
SUMMARY:Business Br(AI)kfast Wien
DESCRIPTION:Das Business Br(AI)kfast Wien am 26. November im Café Landtmann bietet HR-Entscheider:innen wertvolle Einblicke in den Einsatz von Generative AI im Personalwesen. Nach einem Frühstück beginnt Dr. Juergen Erbeldinger\, CEO von ESCRIBA\, mit der Keynote „Dark Side of the Moon – was machen wir mit der KI und was macht die KI mit uns?“. Im Anschluss folgt ein Praxisbericht von Christian Semrajc\, HR Consultant bei Artaker\, der aktuelle Themen im HR beleuchtet. Den Abschluss bilden Feedbackgespräche und eine offene Diskussion. Anmeldung bis 15. November 2024. \nAgenda: \n  \n\nAb 08.30 Uhr Frühstück\n09.00 Uhr Begrüßung und Keynote mit WorkshopDr. Juergen Erbeldinger\, CEO und Gründer\, ESCRIBA:„Dark Side of the Moon – was machen wir mit der KI und was macht die KI mit uns?“\n10.30 Uhr Praxisbericht: „Das hat mir als Personalleiter immer gefehlt“:Aktuelle Themen im Personalmanagement – Impuls und Austausch(Christian Semrajc\, HR Consultant\, Artaker)\n11.00 Uhr Feedbackgespräche und Diskussion\n12.00 Uhr Ende der Veranstaltung\n\n			\n				\n				\n				\n				\n				\n			\n				\n				\n				\n				\n				  \nIhr Ansprechpartner:\nDr. Helmut Szpott\nProkurist | Partner\nE-Mail | +43 1 588 52 0 | +43 664 813 39 01
URL:https://artaker.it/event/business-braikfast-wien/
LOCATION:Café Landtmann\, Universitätsring 4\, Wien\, 1010
CATEGORIES:Business Breakfast
ATTACH;FMTTYPE=image/jpeg:https://artaker.it/wp-content/uploads/2024/10/Artaker-Postings-schmal-1200-x-900-px.jpg
END:VEVENT
END:VCALENDAR