BEGIN:VCALENDAR
VERSION:2.0
PRODID:-//Artaker IT - ECPv6.15.17.1//NONSGML v1.0//EN
CALSCALE:GREGORIAN
METHOD:PUBLISH
X-WR-CALNAME:Artaker IT
X-ORIGINAL-URL:https://artaker.it
X-WR-CALDESC:Veranstaltungen für Artaker IT
REFRESH-INTERVAL;VALUE=DURATION:PT1H
X-Robots-Tag:noindex
X-PUBLISHED-TTL:PT1H
BEGIN:VTIMEZONE
TZID:Europe/Berlin
BEGIN:DAYLIGHT
TZOFFSETFROM:+0100
TZOFFSETTO:+0200
TZNAME:CEST
DTSTART:20240331T010000
END:DAYLIGHT
BEGIN:STANDARD
TZOFFSETFROM:+0200
TZOFFSETTO:+0100
TZNAME:CET
DTSTART:20241027T010000
END:STANDARD
BEGIN:DAYLIGHT
TZOFFSETFROM:+0100
TZOFFSETTO:+0200
TZNAME:CEST
DTSTART:20250330T010000
END:DAYLIGHT
BEGIN:STANDARD
TZOFFSETFROM:+0200
TZOFFSETTO:+0100
TZNAME:CET
DTSTART:20251026T010000
END:STANDARD
BEGIN:DAYLIGHT
TZOFFSETFROM:+0100
TZOFFSETTO:+0200
TZNAME:CEST
DTSTART:20260329T010000
END:DAYLIGHT
BEGIN:STANDARD
TZOFFSETFROM:+0200
TZOFFSETTO:+0100
TZNAME:CET
DTSTART:20261025T010000
END:STANDARD
END:VTIMEZONE
BEGIN:VEVENT
DTSTART;TZID=Europe/Berlin:20250410T083000
DTEND;TZID=Europe/Berlin:20250410T120000
DTSTAMP:20260425T023932
CREATED:20250217T125739Z
LAST-MODIFIED:20250409T100324Z
UID:10000081-1744273800-1744286400@artaker.it
SUMMARY:Business Br(AI)kfast Wien 2025 April
DESCRIPTION:Das Business Br(AI)kfast Wien am 10. April 2025 im Café Landtmann bietet HR-Entscheider:innen wertvolle Einblicke in den Einsatz von Generative AI im Personalwesen. Nach einem Frühstück beginnt Markus Görtz\, CPO von ESCRIBA\, mit der Keynote „Transforming HR Services: Agentic AI und HR Service Management im Einklang“. Im Anschluss folgt ein Praxisbericht von Christian Semrajc\, HR Consultant bei Artaker\, der aktuelle Themen im HR beleuchtet. Den Abschluss bilden Feedbackgespräche und eine offene Diskussion. \nAgenda: \n  \n\nAb 08.30 Uhr Frühstück\n09.00 Uhr Begrüßung und Keynote mit WorkshopMarkus Görtz\, CPO\, ESCRIBA:„Transforming HR Services: Agentic AI und HR Service Management im Einklang“\n10.30 Uhr Praxisbericht: „Das hat mir als Personalleiter immer gefehlt“:Aktuelle Themen im Personalmanagement – Impuls und Austausch(Christian Semrajc\, HR Consultant\, Artaker)\n11.00 Uhr Feedbackgespräche und Diskussion\n12.00 Uhr Ende der Veranstaltung\n\n			\n				\n				\n				\n				\n				\n\n			\n				\n				\n				\n				\n				Ihr Ansprechpartner:Dr. Helmut SzpottProkurist | PartnerE-Mail | +43 1 588 52 0 | +43 664 813 39 01
URL:https://artaker.it/event/business-braikfast-wien-2025-april/
LOCATION:Café Landtmann\, Universitätsring 4\, Wien\, 1010
CATEGORIES:Business Breakfast
ATTACH;FMTTYPE=image/jpeg:https://artaker.it/wp-content/uploads/2025/02/business-braikfast.jpg
END:VEVENT
END:VCALENDAR