BEGIN:VCALENDAR
VERSION:2.0
PRODID:-//Artaker IT - ECPv6.15.17.1//NONSGML v1.0//EN
CALSCALE:GREGORIAN
METHOD:PUBLISH
X-ORIGINAL-URL:https://artaker.it
X-WR-CALDESC:Veranstaltungen für Artaker IT
REFRESH-INTERVAL;VALUE=DURATION:PT1H
X-Robots-Tag:noindex
X-PUBLISHED-TTL:PT1H
BEGIN:VTIMEZONE
TZID:Europe/Berlin
BEGIN:DAYLIGHT
TZOFFSETFROM:+0100
TZOFFSETTO:+0200
TZNAME:CEST
DTSTART:20230326T010000
END:DAYLIGHT
BEGIN:STANDARD
TZOFFSETFROM:+0200
TZOFFSETTO:+0100
TZNAME:CET
DTSTART:20231029T010000
END:STANDARD
BEGIN:DAYLIGHT
TZOFFSETFROM:+0100
TZOFFSETTO:+0200
TZNAME:CEST
DTSTART:20240331T010000
END:DAYLIGHT
BEGIN:STANDARD
TZOFFSETFROM:+0200
TZOFFSETTO:+0100
TZNAME:CET
DTSTART:20241027T010000
END:STANDARD
BEGIN:DAYLIGHT
TZOFFSETFROM:+0100
TZOFFSETTO:+0200
TZNAME:CEST
DTSTART:20250330T010000
END:DAYLIGHT
BEGIN:STANDARD
TZOFFSETFROM:+0200
TZOFFSETTO:+0100
TZNAME:CET
DTSTART:20251026T010000
END:STANDARD
END:VTIMEZONE
BEGIN:VEVENT
DTSTART;TZID=Europe/Berlin:20240423T100000
DTEND;TZID=Europe/Berlin:20240423T110000
DTSTAMP:20260422T124232
CREATED:20240129T122739Z
LAST-MODIFIED:20240311T150652Z
UID:10000070-1713866400-1713870000@artaker.it
SUMMARY:Dokumenten-Management und Richard Wagner: die Tugenden der Software
DESCRIPTION:Wir berichten aus Lessons Learned unzähliger gelungener und gescheiterter Softwareprojekte und können dazu bei Richard Wagners Ring der Nibelungen Anleihen nehmen.Eine vielleicht ungewöhnliche\, aber erstaunlich erhellende Methode.Richard Wagners zentrale Motive sind zum Beispiel Liebe\, Schicksal\, Treue oder göttliches Streben. Sie dienen uns als Anregung\, Ihnen unsere Erfahrungen für die Digitalisierung am Beispiel klassischer Dokumenten-Management- und Workflow-Einführungen in Unternehmen darzustellen. \nUnser Teamlead Consulting\, Dominik Gerger\, ist ein ausgewiesener Richard Wagner-Experte\, und wir freuen uns\, dass wir hier Expertise aus Musik und Beratung zusammen kommen lassen können. \nZur Anmeldung \n			\n				\n				\n				\n				\n				Bitte um Verständnis\, dies ist eine Veranstaltung für Interessenten und Kunden\, keine Partnerveranstaltung. \nIhre Ansprechpartner: Dr. Helmut SzpottProkurist | Chief Digital OfficerE-Mail | +43 1 588 52 0 | +43 664 813 39 01 \nMag. Dominik GergerHead of ConsultingE-Mail | +43 1 588 52 0
URL:https://artaker.it/event/dokumenten-management-und-richard-wagner-die-tugenden-der-software/
LOCATION:Findet online statt
CATEGORIES:Konferenz,Webinar
ATTACH;FMTTYPE=image/jpeg:https://artaker.it/wp-content/uploads/2024/01/businessman-sorting-stacks-of-department-meeting-p-2023-11-27-05-17-49-utc-scaled.jpg
END:VEVENT
END:VCALENDAR