BEGIN:VCALENDAR
VERSION:2.0
PRODID:-//Artaker IT - ECPv6.15.17.1//NONSGML v1.0//EN
CALSCALE:GREGORIAN
METHOD:PUBLISH
X-WR-CALNAME:Artaker IT
X-ORIGINAL-URL:https://artaker.it
X-WR-CALDESC:Veranstaltungen für Artaker IT
REFRESH-INTERVAL;VALUE=DURATION:PT1H
X-Robots-Tag:noindex
X-PUBLISHED-TTL:PT1H
BEGIN:VTIMEZONE
TZID:Europe/Berlin
BEGIN:DAYLIGHT
TZOFFSETFROM:+0100
TZOFFSETTO:+0200
TZNAME:CEST
DTSTART:20250330T010000
END:DAYLIGHT
BEGIN:STANDARD
TZOFFSETFROM:+0200
TZOFFSETTO:+0100
TZNAME:CET
DTSTART:20251026T010000
END:STANDARD
BEGIN:DAYLIGHT
TZOFFSETFROM:+0100
TZOFFSETTO:+0200
TZNAME:CEST
DTSTART:20260329T010000
END:DAYLIGHT
BEGIN:STANDARD
TZOFFSETFROM:+0200
TZOFFSETTO:+0100
TZNAME:CET
DTSTART:20261025T010000
END:STANDARD
BEGIN:DAYLIGHT
TZOFFSETFROM:+0100
TZOFFSETTO:+0200
TZNAME:CEST
DTSTART:20270328T010000
END:DAYLIGHT
BEGIN:STANDARD
TZOFFSETFROM:+0200
TZOFFSETTO:+0100
TZNAME:CET
DTSTART:20271031T010000
END:STANDARD
END:VTIMEZONE
BEGIN:VEVENT
DTSTART;TZID=Europe/Berlin:20260429T110000
DTEND;TZID=Europe/Berlin:20260429T114500
DTSTAMP:20260422T002333
CREATED:20260216T075028Z
LAST-MODIFIED:20260216T075555Z
UID:10000104-1777460400-1777463100@artaker.it
SUMMARY:Webinar: Mit xSuite & KI zur automatisierten SAP-Kreditorenbuchhaltung
DESCRIPTION:Mit xSuite & KI zur automatisierten SAP-Kreditorenbuchhaltung\nAgenda \nfolgt \nRegistrierung \nhttps://events.teams.microsoft.com/event/3b0c46da-9c29-4180-b6d7-4940d5d929e0@f16b0d64-c314-4481-adca-7a599aa11e34
URL:https://artaker.it/event/webinar-mit-xsuite-ki-zur-automatisierten-sap-kreditorenbuchhaltung/
LOCATION:Findet online statt
ATTACH;FMTTYPE=image/png:https://artaker.it/wp-content/uploads/2026/02/Mit-xSuite-und-KI-zur-automatisieren-SAP-Kreditorenbuchhaltung.png
END:VEVENT
END:VCALENDAR