BEGIN:VCALENDAR
VERSION:2.0
PRODID:-//Artaker IT - ECPv6.15.17.1//NONSGML v1.0//EN
CALSCALE:GREGORIAN
METHOD:PUBLISH
X-ORIGINAL-URL:https://artaker.it
X-WR-CALDESC:Veranstaltungen für Artaker IT
REFRESH-INTERVAL;VALUE=DURATION:PT1H
X-Robots-Tag:noindex
X-PUBLISHED-TTL:PT1H
BEGIN:VTIMEZONE
TZID:Europe/Berlin
BEGIN:DAYLIGHT
TZOFFSETFROM:+0100
TZOFFSETTO:+0200
TZNAME:CEST
DTSTART:20240331T010000
END:DAYLIGHT
BEGIN:STANDARD
TZOFFSETFROM:+0200
TZOFFSETTO:+0100
TZNAME:CET
DTSTART:20241027T010000
END:STANDARD
BEGIN:DAYLIGHT
TZOFFSETFROM:+0100
TZOFFSETTO:+0200
TZNAME:CEST
DTSTART:20250330T010000
END:DAYLIGHT
BEGIN:STANDARD
TZOFFSETFROM:+0200
TZOFFSETTO:+0100
TZNAME:CET
DTSTART:20251026T010000
END:STANDARD
BEGIN:DAYLIGHT
TZOFFSETFROM:+0100
TZOFFSETTO:+0200
TZNAME:CEST
DTSTART:20260329T010000
END:DAYLIGHT
BEGIN:STANDARD
TZOFFSETFROM:+0200
TZOFFSETTO:+0100
TZNAME:CET
DTSTART:20261025T010000
END:STANDARD
END:VTIMEZONE
BEGIN:VEVENT
DTSTART;TZID=Europe/Berlin:20250612T100000
DTEND;TZID=Europe/Berlin:20250612T110000
DTSTAMP:20260422T194844
CREATED:20250414T154627Z
LAST-MODIFIED:20250806T091723Z
UID:10000091-1749722400-1749726000@artaker.it
SUMMARY:Webinar - Exchange 2016/2019\, Office 2019 und Windows 10 – Was tun\, wenn der Support endet?
DESCRIPTION:Microsoft beendet den erweiterten Support für Exchange Server 2016 und 2019 – doch das ist nicht die einzige Herausforderung für IT-Verantwortliche: Auch Office 2019 und Windows 10 nähern sich ihrem Lebensende. Unternehmen stehen damit vor entscheidenden Fragen rund um Sicherheit\, Betrieb und zukünftige IT-Strategien \nWie geht es nach dem End of Support weiter? Welche Alternativen bieten sich an\, und wie gelingt der Umstieg reibungslos und zukunftssicher? \nIn diesem kompakten Live-Webinar beleuchten unsere Expert:innen die wichtigsten Fragen rund um das bevorstehende Support-Ende zentraler Microsoft-Produkte und zeigen praxisnahe Wege für den Umstieg – von Exchange Online über hybride Szenarien bis hin zu Microsoft 365 und modernen Endpoint-Lösungen. \nDas erwartet Sie im Webinar: \n  \n\nÜberblick über Support-Zeiträume und konkrete Auswirkungen\nSicherheits- und Compliance-Risiken beim Verbleib auf veralteten Systemen\nTechnische und strategische Optionen: Migration zu Exchange Online\, Microsoft 365\, Windows 11 oder Drittanbieter-Lösungen\nEmpfehlungen für Lizenzstrategie und Infrastrukturplanung\nBest Practices für eine erfolgreiche Transition\nAntworten auf Ihre individuellen Fragen in der Live-Q&A\n\n			\n				Zur Anmeldung\n			\n				\n				\n				\n				\n				  \nIhr Ansprechpartner:Georg BroucekProkurist | PartnerE-Mail | +43 1 588 52 0 | +43 664 181 10 85
URL:https://artaker.it/event/webinar-exchange-2016-2019-office-2019-und-windows-10-was-tun-wenn-der-support-endet/
LOCATION:Findet online statt
CATEGORIES:Webinar
ATTACH;FMTTYPE=image/png:https://artaker.it/wp-content/uploads/2025/04/microsoft-support.png
END:VEVENT
END:VCALENDAR