BEGIN:VCALENDAR
VERSION:2.0
PRODID:-//Artaker IT - ECPv6.15.17.1//NONSGML v1.0//EN
CALSCALE:GREGORIAN
METHOD:PUBLISH
X-ORIGINAL-URL:https://artaker.it
X-WR-CALDESC:Veranstaltungen für Artaker IT
REFRESH-INTERVAL;VALUE=DURATION:PT1H
X-Robots-Tag:noindex
X-PUBLISHED-TTL:PT1H
BEGIN:VTIMEZONE
TZID:Europe/Berlin
BEGIN:DAYLIGHT
TZOFFSETFROM:+0100
TZOFFSETTO:+0200
TZNAME:CEST
DTSTART:20240331T010000
END:DAYLIGHT
BEGIN:STANDARD
TZOFFSETFROM:+0200
TZOFFSETTO:+0100
TZNAME:CET
DTSTART:20241027T010000
END:STANDARD
BEGIN:DAYLIGHT
TZOFFSETFROM:+0100
TZOFFSETTO:+0200
TZNAME:CEST
DTSTART:20250330T010000
END:DAYLIGHT
BEGIN:STANDARD
TZOFFSETFROM:+0200
TZOFFSETTO:+0100
TZNAME:CET
DTSTART:20251026T010000
END:STANDARD
BEGIN:DAYLIGHT
TZOFFSETFROM:+0100
TZOFFSETTO:+0200
TZNAME:CEST
DTSTART:20260329T010000
END:DAYLIGHT
BEGIN:STANDARD
TZOFFSETFROM:+0200
TZOFFSETTO:+0100
TZNAME:CET
DTSTART:20261025T010000
END:STANDARD
END:VTIMEZONE
BEGIN:VEVENT
DTSTART;TZID=Europe/Berlin:20251022T140000
DTEND;TZID=Europe/Berlin:20251022T150000
DTSTAMP:20260422T120850
CREATED:20251001T105814Z
LAST-MODIFIED:20251001T105814Z
UID:10000098-1761141600-1761145200@artaker.it
SUMMARY:Microsoft Virtual Briefing - KI einfach nutzen im Alltag
DESCRIPTION:Microsoft 365 Copilot & Agents – KI einfach nutzen im Arbeitsalltag\nMittwoch\, der 22. Oktober 2025\, 14.00 – 15.00 Uhr \nErleben Sie\, wie künstliche Intelligenz mit Microsoft 365 Copilot und AI Agents Ihre tägliche Arbeit nicht nur unterstützt\, sondern grundlegend vereinfacht. In dieser kompakten Live-Session zeigen wir praxisnah\, wie Sie mit Copilot Inhalte effizient erstellen\, Informationen gezielt finden und mit intelligenten Agents wiederkehrende Aufgaben automatisieren – ganz ohne technische Vorkenntnisse.\nWas Sie erwartet: \n\nProduktivität neu gedacht: Entdecken Sie\, wie KI-basierte Assistenten Ihre Arbeitsweise transformieren und Ihnen wertvolle Zeit für strategische Aufgaben verschaffen.\nPraxisnahe Anwendung: Anhand konkreter Beispiele erfahren Sie\, wie Sie Copilot und AI Agents direkt in Ihrem Arbeitsalltag einsetzen können – vom E-Mail-Entwurf bis zur automatisierten Datenanalyse.\nEinfach starten: Lernen Sie\, wie Sie die Potenziale von KI nutzen\, ohne technische Hürden überwinden zu müssen.\n\n Ihr Mehrwert:Dieses Webinar vermittelt Ihnen nicht nur ein grundlegendes Verständnis für den Einsatz von KI in Microsoft 365\, sondern zeigt Ihnen auch\, wie Sie mit minimalem Aufwand maximale Wirkung erzielen. Sie erhalten praxisnahe Impulse\, die Sie sofort anwenden können – für mehr Effizienz\, bessere Ergebnisse und spürbare Entlastung im Arbeitsalltag. \nHier geht’s zur Anmeldung. \nIhr Ansprechpartner:\nManuel Wissel\nTeam Lead Sales\nE-Mail | +43 664 88 27 41 73
URL:https://artaker.it/event/microsoft-virtual-briefing-ki-einfach-nutzen-im-alltag/
LOCATION:Findet online statt
CATEGORIES:Webinar
ATTACH;FMTTYPE=image/jpeg:https://artaker.it/wp-content/uploads/2024/08/abstract-technology-background-connecting-dots-d-2023-11-27-05-19-31-utc-1-scaled.jpg
END:VEVENT
END:VCALENDAR